BEGIN:VCALENDAR
VERSION:2.0
PRODID:-// - ECPv6.15.18//NONSGML v1.0//EN
CALSCALE:GREGORIAN
METHOD:PUBLISH
X-ORIGINAL-URL:https://mypersonalstyle.co.uk
X-WR-CALDESC:Events for 
REFRESH-INTERVAL;VALUE=DURATION:PT1H
X-Robots-Tag:noindex
X-PUBLISHED-TTL:PT1H
BEGIN:VTIMEZONE
TZID:UTC
BEGIN:STANDARD
TZOFFSETFROM:+0000
TZOFFSETTO:+0000
TZNAME:UTC
DTSTART:20250101T000000
END:STANDARD
END:VTIMEZONE
BEGIN:VEVENT
DTSTART;TZID=UTC:20260422T103000
DTEND;TZID=UTC:20260422T123000
DTSTAMP:20260422T012649
CREATED:20260326T132344Z
LAST-MODIFIED:20260326T132731Z
UID:5506-1776853800-1776861000@mypersonalstyle.co.uk
SUMMARY:Capsule Wardrobe Workshop
DESCRIPTION:Do you dream of opening your wardrobe and finding it beautifully organised\, filled only with clothes you truly love to wear? \nOr does this sound more familiar? \nYour wardrobe feels cluttered and chaotic.You have plenty of clothes\, yet nothing seems to come together.You often reach for the same few outfits.You’ve spent money on pieces that rarely (or never) get worn. \nIf so\, you’re certainly not alone—and the good news is\, it can be transformed. \nYou don’t need a huge wardrobe to feel stylish and confident. What you need is a carefully chosen collection of pieces that work effortlessly together and suit your lifestyle. \nThis enjoyable and informative workshop will show you exactly how to create that elusive capsule wardrobe. I’ll guide you through my own wardrobe as a real-life example\, and you’ll discover: \n\nThe colours and styles that work best for you\nHow to mix\, match and coordinate outfits with ease\nPractical ways to declutter and organise your wardrobe\nHow to build a wardrobe that truly reflects your lifestyle\n\nYou’ll also receive a Capsule Wardrobe Workbook\, packed with tips to help you continue the process at home. \nPlaces are limited to keep the session personal and interactive. \nTo reserve your place\, please call 07703 405106 or email Nicola@mypersonalstyle.co.uk.
URL:https://mypersonalstyle.co.uk/event/capsule-wardrobe-workshop/
LOCATION:The Oaks\, Stroudwood Lane\, Upham\, Southampton\, Hampshire\, SO32 1HG\, United Kingdom
END:VEVENT
END:VCALENDAR