BEGIN:VCALENDAR
VERSION:2.0
PRODID:-// - ECPv6.15.18//NONSGML v1.0//EN
CALSCALE:GREGORIAN
METHOD:PUBLISH
X-ORIGINAL-URL:https://mypersonalstyle.co.uk
X-WR-CALDESC:Events for 
REFRESH-INTERVAL;VALUE=DURATION:PT1H
X-Robots-Tag:noindex
X-PUBLISHED-TTL:PT1H
BEGIN:VTIMEZONE
TZID:UTC
BEGIN:STANDARD
TZOFFSETFROM:+0000
TZOFFSETTO:+0000
TZNAME:UTC
DTSTART:20170101T000000
END:STANDARD
END:VTIMEZONE
BEGIN:VEVENT
DTSTART;TZID=UTC:20180407T103000
DTEND;TZID=UTC:20180407T123000
DTSTAMP:20260425T004437
CREATED:20171109T164401Z
LAST-MODIFIED:20171109T164401Z
UID:1318-1523097000-1523104200@mypersonalstyle.co.uk
SUMMARY:Seasonal Update (Morning)
DESCRIPTION:You don’t need to spend a fortune on new clothes this season; you can update your wardrobe with just a few key pieces.  Before you shop for your Spring/Summer wardrobe\, please join me for a fun\, informal preview of the key trends and “must haves”. To help you make the best choices\, my Seasonal Update will include:\n  \n\n\n\n\n\nA presentation on the latest styles\, how to wear them and where to  buy.\n\n\n\n\nA rail of my pick of the new season’s clothes.\n\n\n\n\nBeautiful scarves and jewellery.\n\n\n\n\nThe latest Kettlewell Colours collection.\n\n\n\n\nColour Me Beautiful’s fabulous cosmetics.\n\n\n\nStyle Clinic – Bring along an item of clothing you’d like a second opinion on.\n\nBring a friend and pay just £10 each!\n\nThese events are always popular so be sure to book early by emailing Nicola@mypersonalstyle.co.uk
URL:https://mypersonalstyle.co.uk/event/seasonal-update/
END:VEVENT
BEGIN:VEVENT
DTSTART;TZID=UTC:20180407T140000
DTEND;TZID=UTC:20180407T160000
DTSTAMP:20260425T004437
CREATED:20171109T164710Z
LAST-MODIFIED:20171109T164710Z
UID:1319-1523109600-1523116800@mypersonalstyle.co.uk
SUMMARY:Seasonal Update (Afternoon)
DESCRIPTION:You don’t need to spend a fortune on new clothes this season; you can update your wardrobe with just a few key pieces.  Before you shop for your Spring/Summer wardrobe\, please join me for a fun\, informal preview of the key trends and “must haves”. To help you make the best choices\, my Seasonal Update will include:\n\n\n\n\n\nA presentation on the latest styles\, how to wear them and where to  buy.\n\n\n\n\nA rail of my pick of the new season’s clothes.\n\n\n\n\nBeautiful scarves and jewellery.\n\n\n\n\nThe latest Kettlewell Colours collection.\n\n\n\n\nColour Me Beautiful’s fabulous cosmetics.\n\n\n\nStyle Clinic – Bring along an item of clothing you’d like a second opinion on.\n\nBring a friend and pay just £10 each!\n\nThese events are always popular so be sure to book early by emailing Nicola@mypersonalstyle.co.uk
URL:https://mypersonalstyle.co.uk/event/seasonal-update-afternoon/
END:VEVENT
END:VCALENDAR