BEGIN:VCALENDAR
VERSION:2.0
PRODID:-// - ECPv6.15.18//NONSGML v1.0//EN
CALSCALE:GREGORIAN
METHOD:PUBLISH
X-ORIGINAL-URL:https://mypersonalstyle.co.uk
X-WR-CALDESC:Events for 
REFRESH-INTERVAL;VALUE=DURATION:PT1H
X-Robots-Tag:noindex
X-PUBLISHED-TTL:PT1H
BEGIN:VTIMEZONE
TZID:UTC
BEGIN:STANDARD
TZOFFSETFROM:+0000
TZOFFSETTO:+0000
TZNAME:UTC
DTSTART:20170101T000000
END:STANDARD
END:VTIMEZONE
BEGIN:VEVENT
DTSTART;TZID=UTC:20181020T103000
DTEND;TZID=UTC:20181020T120000
DTSTAMP:20260424T191914
CREATED:20180808T154259Z
LAST-MODIFIED:20180808T154259Z
UID:1713-1540031400-1540036800@mypersonalstyle.co.uk
SUMMARY:Seasonal Update (Morning Session)
DESCRIPTION:Before you shop for your Autumn/Winter wardrobe\, please join me for a an informal and enjoyable Seasonal Update where I will guide you through the key Autumn/Winter trends with advice on what  shapes and colours will work for you\, along with those which are perhaps best avoided. To help you make the best choices\, there will be: \n\nA presentation on the latest styles\, how to wear them and where to buy.\nA rail of my pick of the new season’s clothes.\nThe latest Kettlewell Colours  and Friendtex clothing collections.\nBeautiful scarves and jewellery to add that finishing touch.\nColour Me Beautiful cosmetics to try and buy – including gorgeous new lip\, eye and cheek shades..\n\nIf you haven’t been to see me before\, this is a great introduction to my services. If you have\, welcome back\, it will be lovely to help you refresh your look for the new season! \nPlease allow an additional 30 minutes at the end if you would like to try/buy clothes\, cosmetics and jewellery.
URL:https://mypersonalstyle.co.uk/event/seasonal-update-2/
END:VEVENT
BEGIN:VEVENT
DTSTART;TZID=UTC:20181020T140000
DTEND;TZID=UTC:20181020T153000
DTSTAMP:20260424T191914
CREATED:20180808T154747Z
LAST-MODIFIED:20180808T154747Z
UID:1719-1540044000-1540049400@mypersonalstyle.co.uk
SUMMARY:Seasonal Update (Afternoon Session)
DESCRIPTION:Before you shop for your Autumn/Winter wardrobe\, please join me for a an informal and enjoyable Seasonal Update where I will guide you through the key Autumn/Winter trends with advice on what  shapes and colours will work for you\, along with those which are perhaps best avoided. To help you make the best choices\, there will be: \n\nA presentation on the latest styles\, how to wear them and where to buy.\nA rail of my pick of the new season’s clothes.\nThe latest Kettlewell Colours  and Friendtex clothing collections.\nBeautiful scarves and jewellery to add that finishing touch.\nColour Me Beautiful cosmetics to try and buy – including gorgeous new lip\, eye and cheek shades..\n\nIf you haven’t been to see me before\, this is a great introduction to my services. If you have\, welcome back\, it will be lovely to help you refresh your look for the new season! \nPlease allow an additional 30 minutes at the end if you would like to try/buy clothes\, cosmetics and jewellery.
URL:https://mypersonalstyle.co.uk/event/seasonal-update-afternoon-session/
END:VEVENT
END:VCALENDAR